BEGIN:VCALENDAR
VERSION:2.0
PRODID:-//Neuromod+ - ECPv6.15.20//NONSGML v1.0//EN
CALSCALE:GREGORIAN
METHOD:PUBLISH
X-ORIGINAL-URL:https://neuromodplus.org
X-WR-CALDESC:Events for Neuromod+
REFRESH-INTERVAL;VALUE=DURATION:PT1H
X-Robots-Tag:noindex
X-PUBLISHED-TTL:PT1H
BEGIN:VTIMEZONE
TZID:Europe/London
BEGIN:DAYLIGHT
TZOFFSETFROM:+0000
TZOFFSETTO:+0100
TZNAME:BST
DTSTART:20230326T010000
END:DAYLIGHT
BEGIN:STANDARD
TZOFFSETFROM:+0100
TZOFFSETTO:+0000
TZNAME:GMT
DTSTART:20231029T010000
END:STANDARD
BEGIN:DAYLIGHT
TZOFFSETFROM:+0000
TZOFFSETTO:+0100
TZNAME:BST
DTSTART:20240331T010000
END:DAYLIGHT
BEGIN:STANDARD
TZOFFSETFROM:+0100
TZOFFSETTO:+0000
TZNAME:GMT
DTSTART:20241027T010000
END:STANDARD
BEGIN:DAYLIGHT
TZOFFSETFROM:+0000
TZOFFSETTO:+0100
TZNAME:BST
DTSTART:20250330T010000
END:DAYLIGHT
BEGIN:STANDARD
TZOFFSETFROM:+0100
TZOFFSETTO:+0000
TZNAME:GMT
DTSTART:20251026T010000
END:STANDARD
END:VTIMEZONE
BEGIN:VEVENT
DTSTART;TZID=Europe/London:20240806T100000
DTEND;TZID=Europe/London:20240806T160000
DTSTAMP:20260421T173036
CREATED:20240619T163306Z
LAST-MODIFIED:20240619T163306Z
UID:10000024-1722938400-1722960000@neuromodplus.org
SUMMARY:National Consortium for Neurotechnology Meeting with Regulators
DESCRIPTION:With support from Innovate UK\, MHRA and OLS\, we have recently established the\nNational Consortium for Neurotechnology. The purpose of this regulatory\nnetwork is to further the clinical translation of neurotechnology safely and\nefficiently in the UK. We are hosting a workshop with colleagues from MHRA\,\nDHSC and DSIT in-person on August 6th 2024\, 10am-4pm\, at Newcastle University\,\nto discuss regulatory bottlenecks and identify the key components of an open\nframework for performing human clinical studies. \nThe event will feature talks\, panel discussion and networking opportunities.\nKeynote presentations will be given by Freya Rowland (Head of Medical Devices\nRegulatory Policy\, DHSC) and Mark Grumbridge (Head of Clinical Investigations\,\nMHRA). \nRegistration for the event is now open\nhttps://forms.office.com/Pages/ResponsePage.aspx?id=yRJQnBa2wkSpF2aBT74-hxGn0T_WsZBLkyd-Yj3WnBBUNFQyWUhWVEUzVlVTSzE0RENMODRPNVlPVC4u \nThe registration deadline is July 5th 2024. \nBest\,\nLuke Bashford\, on behalf of the National Consortium for Neurotechnology.
URL:https://neuromodplus.org/event2/national-consortium-for-neurotechnology-meeting-with-regulators/
LOCATION:Newcastle University\, Newcastle upon Tyne\, NE1 7RU\, United Kingdom
CATEGORIES:external event,workshop
END:VEVENT
END:VCALENDAR