BEGIN:VCALENDAR
VERSION:2.0
PRODID:-//Neuromod+ - ECPv6.15.20//NONSGML v1.0//EN
CALSCALE:GREGORIAN
METHOD:PUBLISH
X-WR-CALNAME:Neuromod+
X-ORIGINAL-URL:https://neuromodplus.org
X-WR-CALDESC:Events for Neuromod+
REFRESH-INTERVAL;VALUE=DURATION:PT1H
X-Robots-Tag:noindex
X-PUBLISHED-TTL:PT1H
BEGIN:VTIMEZONE
TZID:Europe/London
BEGIN:DAYLIGHT
TZOFFSETFROM:+0000
TZOFFSETTO:+0100
TZNAME:BST
DTSTART:20240331T010000
END:DAYLIGHT
BEGIN:STANDARD
TZOFFSETFROM:+0100
TZOFFSETTO:+0000
TZNAME:GMT
DTSTART:20241027T010000
END:STANDARD
BEGIN:DAYLIGHT
TZOFFSETFROM:+0000
TZOFFSETTO:+0100
TZNAME:BST
DTSTART:20250330T010000
END:DAYLIGHT
BEGIN:STANDARD
TZOFFSETFROM:+0100
TZOFFSETTO:+0000
TZNAME:GMT
DTSTART:20251026T010000
END:STANDARD
BEGIN:DAYLIGHT
TZOFFSETFROM:+0000
TZOFFSETTO:+0100
TZNAME:BST
DTSTART:20260329T010000
END:DAYLIGHT
BEGIN:STANDARD
TZOFFSETFROM:+0100
TZOFFSETTO:+0000
TZNAME:GMT
DTSTART:20261025T010000
END:STANDARD
END:VTIMEZONE
BEGIN:VEVENT
DTSTART;TZID=Europe/London:20250409T103000
DTEND;TZID=Europe/London:20250409T160000
DTSTAMP:20260422T044033
CREATED:20250312T141806Z
LAST-MODIFIED:20250513T115509Z
UID:10000040-1744194600-1744214400@neuromodplus.org
SUMMARY:Neurotechnology Networks Ethics in Neurotechnology Workshop
DESCRIPTION:Wednesday 9th April 2025\nImperial College London\nPlease join us for an in-person workshop\, to share experiences across the five EPSRC & MRC-funded neurotechnology networks\, and discuss how we can develop shared resources on ethics in neurotechnology. \nPlease register and/or share your views via the form below\n\nProgramme\n10.30 – Arrival and coffee\n11.00 – Introduction and welcome (Sarah Chan)\n11.15 – Session 1: Sharing ideas and lessons learned \n\nSarah Chan – Neuromod+\nJohn Terry – NCODE\nAndrew Jackson – CloseNIT: CloseNIT ethics workshop slides\nEva Loth – Respect for Neurodevelopment: R4N ethics workshop slides\n\n12.15 – Lunch\n13.00 – Session 2: Case studies \n\nSarah Douglas (R4N Neurodiversity and Participatory Research Board) – Reframing autism in research\nValerie Sparkes (CPNN) – Studies using VR for chronic pain: CPNN ethics workshop slides\nAmparo Guemes Gonzales (University of Cambridge\, CloseNIT\, Neuromod+) – PPI in neurotech: https://www.inclusive-neurotech.co.uk/ and “Foundational guidelines for enhancing neurotechnology research and development through end-user involvement”\nMohamed Mohamed (University of Sheffield\, Neuromod+) – Fostering Inclusivity in Neuroimaging Research\nPranav Mahajan (University of Oxford\, CPNN) – Safe Opioid management with Large-language models through Alignment\, Control\, and Evaluation\nPanel:\n\nSarah Chan (Neuromod+) – Reader in Bioethics\nEmily Jones (R4N) – Professor at the Centre for Brain & Cognitive Development\, Birkbeck\, University of London\nDavid Lawrence – Assistant Professor in Biolaw\, Durham Law School\n\n\n\n15.00 – Break\n15.15 – Session 3: Outcomes and how to get there\n16.00 – End \n\n  \nIf you have any trouble viewing the embedded form above\, please visit https://forms.office.com/r/5sByDAAbKG). Thank you for your input and we hope to see you in April. \nChronic Pain Neurotechnology Network https://cpnn.ac.uk/\nCloseNIT https://research.ncl.ac.uk/close-nit/\nNCode https://www.n-code.org/\nNeuromod+ https://neuromodplus.org/\nRespect 4 Neurodevelopment https://respect4neurodevelopment.com/
URL:https://neuromodplus.org/event2/neurotechnology-networks-ethics-in-neurotechnology-workshop/
LOCATION:Imperial College London\, South Kensington Campus\, Exhibition Road\, London\, SW7 2AZ\, United Kingdom
CATEGORIES:workshop
ATTACH;FMTTYPE=image/jpeg:https://neuromodplus.org/wp-content/uploads/2025/03/Artificial_Neural_Network_with_Chip-e1741790024813.jpg
END:VEVENT
END:VCALENDAR